BEGIN:VCALENDAR
VERSION:2.0
METHOD:PUBLISH
BEGIN:VEVENT
DTSTART:20260430T140000Z
DTEND:20260502T210000Z
LOCATION:Monroe, GA 30656 (Full address will be shown on Wed, Apr 29 9:00am)
TRANSP: OPAQUE
SEQUENCE:0
UID:
DTSTAMP:20260424T180203Z
SUMMARY:Rustic Farm House: Gun Safe, Ammo, Skeets, Airsoft Guns | Vintage Toys, Electronics, Playboys | Unique Tools, Jewelry, Antique Furniture | Farm Shed Rummage | Grasons of Johns Creek & Tucker
DESCRIPTION:Rustic Farm House: Gun Safe, Ammo, Skeets, Airsoft Guns | Vintage Toys, Electronics, Playboys | Unique Tools, Jewelry, Antique Furniture | Farm Shed Rummage | Grasons of Johns Creek & Tucker Grasons of John's Creek & Grasons of Tucker 
UID:1777075323
STREET-ADDRESS:See website
POSTAL-CODE:30656
LOCALITY:Monroe
REGION:ABBREV=GA
COUNTRY:ABBREV=US;ABBREV=USA:United States
URL;TYPE=Event Listing:https://estatesales.org/estate-sales/ga/monroe/30656/rustic-farm-house-gun-safe-2437139
PRIORITY:1
CLASS:PUBLIC
SEQUENCE:0
STATUS:CONFIRMED
TRANSP:OPAQUE
END:VEVENT
END:VCALENDAR
