BEGIN:VCALENDAR
VERSION:2.0
METHOD:PUBLISH
BEGIN:VEVENT
DTSTART:20260430T160000Z
DTEND:20260502T220000Z
LOCATION:Dallas, TX 75244 (Full address will be shown on Thu, Apr 30 7:00am)
TRANSP: OPAQUE
SEQUENCE:0
UID:
DTSTAMP:20260422T003041Z
SUMMARY:Vintage Revival in North Dallas
DESCRIPTION:Vintage Revival in North Dallas DALLAS ESTATE SELLERS 
UID:1776839441
STREET-ADDRESS:See website
POSTAL-CODE:75244
LOCALITY:Dallas
REGION:ABBREV=TX
COUNTRY:ABBREV=US;ABBREV=USA:United States
URL;TYPE=Event Listing:https://estatesales.org/estate-sales/tx/dallas/75244/vintage-revival-in-north-dallas-2436505
PRIORITY:1
CLASS:PUBLIC
SEQUENCE:0
STATUS:CONFIRMED
TRANSP:OPAQUE
END:VEVENT
END:VCALENDAR
