BEGIN:VCALENDAR
VERSION:2.0
METHOD:PUBLISH
BEGIN:VEVENT
DTSTART:20260430T140000Z
DTEND:20260502T190000Z
LOCATION:Lilburn, GA 30047 (Full address will be shown on Wed, Apr 29 12:00am)
TRANSP: OPAQUE
SEQUENCE:0
UID:
DTSTAMP:20260422T192131Z
SUMMARY:BEE'S KNEES IS IN LILBURN!
DESCRIPTION:BEE'S KNEES IS IN LILBURN! Bee's Knees Estate Sales LLC 
UID:1776907291
STREET-ADDRESS:See website
POSTAL-CODE:30047
LOCALITY:Lilburn
REGION:ABBREV=GA
COUNTRY:ABBREV=US;ABBREV=USA:United States
URL;TYPE=Event Listing:https://estatesales.org/estate-sales/ga/lilburn/30047/bees-knees-is-in-lilburn-2436683
PRIORITY:1
CLASS:PUBLIC
SEQUENCE:0
STATUS:CONFIRMED
TRANSP:OPAQUE
END:VEVENT
END:VCALENDAR
