BEGIN:VCALENDAR
VERSION:2.0
METHOD:PUBLISH
BEGIN:VEVENT
DTSTART:20260430T140000Z
DTEND:20260502T180000Z
LOCATION:Nashville, TN 37206 (Full address will be shown on Thu, Apr 30 5:00am)
TRANSP: OPAQUE
SEQUENCE:0
UID:
DTSTAMP:20260425T163950Z
SUMMARY:Grasons of Nashville - Eclectic East Nashville Estate Sale!
DESCRIPTION:Grasons of Nashville - Eclectic East Nashville Estate Sale! Grasons of Nashville, TN 
UID:1777156790
STREET-ADDRESS:See website
POSTAL-CODE:37206
LOCALITY:Nashville
REGION:ABBREV=TN
COUNTRY:ABBREV=US;ABBREV=USA:United States
URL;TYPE=Event Listing:https://estatesales.org/estate-sales/tn/nashville/37206/grasons-of-nashville-eclectic-east-2433315
PRIORITY:1
CLASS:PUBLIC
SEQUENCE:0
STATUS:CONFIRMED
TRANSP:OPAQUE
END:VEVENT
END:VCALENDAR
