BEGIN:VCALENDAR
VERSION:2.0
METHOD:PUBLISH
BEGIN:VEVENT
DTSTART:20260430T130000Z
DTEND:20260502T200000Z
LOCATION:Lebanon, TN 37087 (Full address will be shown on Wed, Apr 29 12:00am)
TRANSP: OPAQUE
SEQUENCE:0
UID:
DTSTAMP:20260421T203056Z
SUMMARY:“Rich in Vintage” PACKED Lebanon Estate Sale!!
DESCRIPTION:“Rich in Vintage” PACKED Lebanon Estate Sale!! Marigold Estate Sales 
UID:1776825056
STREET-ADDRESS:See website
POSTAL-CODE:37087
LOCALITY:Lebanon
REGION:ABBREV=TN
COUNTRY:ABBREV=US;ABBREV=USA:United States
URL;TYPE=Event Listing:https://estatesales.org/estate-sales/tn/lebanon/37087/rich-in-vintage-packed-lebanon-2436441
PRIORITY:1
CLASS:PUBLIC
SEQUENCE:0
STATUS:CONFIRMED
TRANSP:OPAQUE
END:VEVENT
END:VCALENDAR
