BEGIN:VCALENDAR
VERSION:2.0
METHOD:PUBLISH
BEGIN:VEVENT
DTSTART:20260430T160000Z
DTEND:20260502T220000Z
LOCATION:Citrus Heights, CA 95621 (Full address will be shown on Thu, Apr 30 6:00am)
TRANSP: OPAQUE
SEQUENCE:0
UID:
DTSTAMP:20260423T022558Z
SUMMARY:A DOLL LOVER’S DREAM & ECLECTIC TREASURE TROVE!
DESCRIPTION:A DOLL LOVER’S DREAM & ECLECTIC TREASURE TROVE! Martin's Estate Sales, Auctions and Home Clear-Outs M&A 
UID:1776932758
STREET-ADDRESS:See website
POSTAL-CODE:95621
LOCALITY:Citrus Heights
REGION:ABBREV=CA
COUNTRY:ABBREV=US;ABBREV=USA:United States
URL;TYPE=Event Listing:https://estatesales.org/estate-sales/ca/citrus-heights/95621/a-doll-lovers-dream-eclectic-2436801
PRIORITY:1
CLASS:PUBLIC
SEQUENCE:0
STATUS:CONFIRMED
TRANSP:OPAQUE
END:VEVENT
END:VCALENDAR
