BEGIN:VCALENDAR
VERSION:2.0
METHOD:PUBLISH
BEGIN:VEVENT
DTSTART:20260430T160000Z
DTEND:20260502T210000Z
LOCATION:Cypress, CA 90630 (Full address will be shown on Thu, Apr 30 12:00am)
TRANSP: OPAQUE
SEQUENCE:0
UID:
DTSTAMP:20260423T160312Z
SUMMARY:Grasons Integrity Cypress Estate Sale
DESCRIPTION:Grasons Integrity Cypress Estate Sale Grasons Co Integrity Estate Sale Services 
UID:1776981792
STREET-ADDRESS:See website
POSTAL-CODE:90630
LOCALITY:Cypress
REGION:ABBREV=CA
COUNTRY:ABBREV=US;ABBREV=USA:United States
URL;TYPE=Event Listing:https://estatesales.org/estate-sales/ca/cypress/90630/grasons-integrity-cypress-estate-sale-2436907
PRIORITY:1
CLASS:PUBLIC
SEQUENCE:0
STATUS:CONFIRMED
TRANSP:OPAQUE
END:VEVENT
END:VCALENDAR
