BEGIN:VCALENDAR
VERSION:2.0
METHOD:PUBLISH
BEGIN:VEVENT
DTSTART:20260430T160000Z
DTEND:20260502T200000Z
LOCATION:Irvine, CA 92603 (Full address will be shown on Thu, Apr 30 6:00am)
TRANSP: OPAQUE
SEQUENCE:0
UID:
DTSTAMP:20260422T095649Z
SUMMARY:Grasons Co Elite of South OC 2 Day Estate Sale in Irvine
DESCRIPTION:Grasons Co Elite of South OC 2 Day Estate Sale in Irvine Grasons Co of South Orange County 
UID:1776873409
STREET-ADDRESS:See website
POSTAL-CODE:92603
LOCALITY:Irvine
REGION:ABBREV=CA
COUNTRY:ABBREV=US;ABBREV=USA:United States
URL;TYPE=Event Listing:https://estatesales.org/estate-sales/ca/irvine/92603/grasons-co-elite-of-south-2436538
PRIORITY:1
CLASS:PUBLIC
SEQUENCE:0
STATUS:CONFIRMED
TRANSP:OPAQUE
END:VEVENT
END:VCALENDAR
