BEGIN:VCALENDAR
VERSION:2.0
METHOD:PUBLISH
BEGIN:VEVENT
DTSTART:20260430T130000Z
DTEND:20260430T180000Z
LOCATION:Franklin Square, NY 11010 (Full address will be shown on Wed, Apr 29 9:00am)
TRANSP: OPAQUE
SEQUENCE:0
UID:
DTSTAMP:20260422T164056Z
SUMMARY:Estate Sale in Franklin Square by Caring Transitions - Thursday 4/30!
DESCRIPTION:Estate Sale in Franklin Square by Caring Transitions - Thursday 4/30! Caring Transitions of Garden City 
UID:1776897656
STREET-ADDRESS:See website
POSTAL-CODE:11010
LOCALITY:Franklin Square
REGION:ABBREV=NY
COUNTRY:ABBREV=US;ABBREV=USA:United States
URL;TYPE=Event Listing:https://estatesales.org/estate-sales/ny/franklin-square/11010/estate-sale-in-franklin-square-2436657
PRIORITY:1
CLASS:PUBLIC
SEQUENCE:0
STATUS:CONFIRMED
TRANSP:OPAQUE
END:VEVENT
END:VCALENDAR
