BEGIN:VCALENDAR
VERSION:2.0
METHOD:PUBLISH
BEGIN:VEVENT
DTSTART:20260430T123000Z
DTEND:20260502T180000Z
LOCATION:Debary, FL 32713 (Full address will be shown on Wed, Apr 29 12:00am)
TRANSP: OPAQUE
SEQUENCE:0
UID:
DTSTAMP:20260423T005210Z
SUMMARY:Hidden Treasures Inside Estate Sale Westridge DeBary Golf & Country Club
DESCRIPTION:Hidden Treasures Inside Estate Sale Westridge DeBary Golf & Country Club Hidden Treasure Estates Sales 
UID:1776927130
STREET-ADDRESS:See website
POSTAL-CODE:32713
LOCALITY:Debary
REGION:ABBREV=FL
COUNTRY:ABBREV=US;ABBREV=USA:United States
URL;TYPE=Event Listing:https://estatesales.org/estate-sales/fl/debary/32713/hidden-treasures-inside-estate-sale-2436774
PRIORITY:1
CLASS:PUBLIC
SEQUENCE:0
STATUS:CONFIRMED
TRANSP:OPAQUE
END:VEVENT
END:VCALENDAR
