BEGIN:VCALENDAR
VERSION:2.0
METHOD:PUBLISH
BEGIN:VEVENT
DTSTART:20260430T140000Z
DTEND:20260430T190000Z
LOCATION:Rialto, CA 92376 (Full address will be shown on Thu, Apr 30 6:00am)
TRANSP: OPAQUE
SEQUENCE:0
UID:
DTSTAMP:20260422T144829Z
SUMMARY:Grasons Estate Specialists T n T (Tools and Trains) ONE DAY ONLY Rialto Estate Sale
DESCRIPTION:Grasons Estate Specialists T n T (Tools and Trains) ONE DAY ONLY Rialto Estate Sale Grasons Co Estate Specialists 
UID:1776890909
STREET-ADDRESS:See website
POSTAL-CODE:92376
LOCALITY:Rialto
REGION:ABBREV=CA
COUNTRY:ABBREV=US;ABBREV=USA:United States
URL;TYPE=Event Listing:https://estatesales.org/estate-sales/ca/rialto/92376/grasons-estate-specialists-t-n-2436622
PRIORITY:1
CLASS:PUBLIC
SEQUENCE:0
STATUS:CONFIRMED
TRANSP:OPAQUE
END:VEVENT
END:VCALENDAR
