BEGIN:VCALENDAR
VERSION:2.0
METHOD:PUBLISH
BEGIN:VEVENT
DTSTART:20220430T140000Z
DTEND:20220430T190000Z
LOCATION:Glendale Heights, IL 60139
TRANSP: OPAQUE
SEQUENCE:0
UID:
DTSTAMP:20260425T144049Z
SUMMARY:Grasons Co of NW Chicagoland Glendale Heights estate sale
DESCRIPTION:Grasons Co of NW Chicagoland Glendale Heights estate sale Grasons Co of NW Chicagoland 
UID:1777149649
STREET-ADDRESS:See website
POSTAL-CODE:60139
LOCALITY:Glendale Heights
REGION:ABBREV=IL
COUNTRY:ABBREV=US;ABBREV=USA:United States
URL;TYPE=Event Listing:https://estatesales.org/estate-sales/il/glendale-heights/60139/grasons-co-of-nw-chicagoland-2029695
PRIORITY:1
CLASS:PUBLIC
SEQUENCE:0
STATUS:CONFIRMED
TRANSP:OPAQUE
END:VEVENT
END:VCALENDAR
