BEGIN:VCALENDAR
VERSION:2.0
METHOD:PUBLISH
BEGIN:VEVENT
DTSTART:20150430T160000Z
DTEND:20150502T220000Z
LOCATION:Bridgeview, IL 60455
TRANSP: OPAQUE
SEQUENCE:0
UID:
DTSTAMP:20260420T194502Z
SUMMARY:***SUBTLE TREASURES*** HITS THE JACKPOT AGAIN JUST FOR YOU! IN BRIDGEVIEW!!!
DESCRIPTION:***SUBTLE TREASURES*** HITS THE JACKPOT AGAIN JUST FOR YOU! IN BRIDGEVIEW!!! Subtle Treasures 
UID:1776735902
STREET-ADDRESS:See website
POSTAL-CODE:60455
LOCALITY:Bridgeview
REGION:ABBREV=IL
COUNTRY:ABBREV=US;ABBREV=USA:United States
URL;TYPE=Event Listing:https://estatesales.org/estate-sales/il/bridgeview/60455/subtle-treasures-hits-the-jackpot-534217
PRIORITY:1
CLASS:PUBLIC
SEQUENCE:0
STATUS:CONFIRMED
TRANSP:OPAQUE
END:VEVENT
END:VCALENDAR
