BEGIN:VCALENDAR
VERSION:2.0
METHOD:PUBLISH
BEGIN:VEVENT
DTSTART:20260429T150000Z
DTEND:20260502T210000Z
LOCATION:Denver, CO 80260 (Full address will be shown on Wed, Apr 29 5:00am)
TRANSP: OPAQUE
SEQUENCE:0
UID:
DTSTAMP:20260425T115840Z
SUMMARY:Cruise On Up to Northglenn - Monster Spring Sale !!!
DESCRIPTION:Cruise On Up to Northglenn - Monster Spring Sale !!! Amethyst Estate Services LLC 
UID:1777139920
STREET-ADDRESS:See website
POSTAL-CODE:80260
LOCALITY:Denver
REGION:ABBREV=CO
COUNTRY:ABBREV=US;ABBREV=USA:United States
URL;TYPE=Event Listing:https://estatesales.org/estate-sales/co/thornton/80260/cruise-on-up-to-northglenn-2437188
PRIORITY:1
CLASS:PUBLIC
SEQUENCE:0
STATUS:CONFIRMED
TRANSP:OPAQUE
END:VEVENT
END:VCALENDAR
