BEGIN:VCALENDAR
VERSION:2.0
METHOD:PUBLISH
BEGIN:VEVENT
DTSTART:20230429T160000Z
DTEND:20230430T210000Z
LOCATION:Los Angeles, CA 90024
TRANSP: OPAQUE
SEQUENCE:0
UID:
DTSTAMP:20260420T044048Z
SUMMARY: Discount Sunday Westwood Blast From The Past Estate Sale
DESCRIPTION: Discount Sunday Westwood Blast From The Past Estate Sale Hidden Treasure Estate Sales 
UID:1776681648
STREET-ADDRESS:See website
POSTAL-CODE:90024
LOCALITY:Los Angeles
REGION:ABBREV=CA
COUNTRY:ABBREV=US;ABBREV=USA:United States
URL;TYPE=Event Listing:https://estatesales.org/estate-sales/ca/los-angeles/90024/discount-sunday-westwood-blast-from-2173739
PRIORITY:1
CLASS:PUBLIC
SEQUENCE:0
STATUS:CONFIRMED
TRANSP:OPAQUE
END:VEVENT
END:VCALENDAR
