BEGIN:VCALENDAR
VERSION:2.0
METHOD:PUBLISH
BEGIN:VEVENT
DTSTART:20230429T130000Z
DTEND:20230429T190000Z
LOCATION:Wareham, MA 02576
TRANSP: OPAQUE
SEQUENCE:0
UID:
DTSTAMP:20260420T012619Z
SUMMARY:Wareham Estate Sale
DESCRIPTION:Wareham Estate Sale Hidden Treasures Estate Sales & Cleanouts 
UID:1776669979
STREET-ADDRESS:See website
POSTAL-CODE:02576
LOCALITY:Wareham
REGION:ABBREV=MA
COUNTRY:ABBREV=US;ABBREV=USA:United States
URL;TYPE=Event Listing:https://estatesales.org/estate-sales/ma/wareham/02576/wareham-estate-sale-2173809
PRIORITY:1
CLASS:PUBLIC
SEQUENCE:0
STATUS:CONFIRMED
TRANSP:OPAQUE
END:VEVENT
END:VCALENDAR
