BEGIN:VCALENDAR
VERSION:2.0
METHOD:PUBLISH
BEGIN:VEVENT
DTSTART:20190429T151900Z
DTEND:20190502T180000Z
LOCATION:Buffalo, NY 14225
TRANSP: OPAQUE
SEQUENCE:0
UID:
DTSTAMP:20260420T195124Z
SUMMARY:Old and New with Tools, Holiday, Asian, Art, Decor and Furniture - ONLINE
DESCRIPTION:Old and New with Tools, Holiday, Asian, Art, Decor and Furniture - ONLINE Stewart Estate Services LLC 
UID:1776736284
STREET-ADDRESS:See website
POSTAL-CODE:14225
LOCALITY:Buffalo
REGION:ABBREV=NY
COUNTRY:ABBREV=US;ABBREV=USA:United States
URL;TYPE=Event Listing:https://estatesales.org/estate-sales/ny/cheektowaga/14225/old-and-new-with-tools-1653961
PRIORITY:1
CLASS:PUBLIC
SEQUENCE:0
STATUS:CONFIRMED
TRANSP:OPAQUE
END:VEVENT
END:VCALENDAR
