BEGIN:VCALENDAR
VERSION:2.0
METHOD:PUBLISH
BEGIN:VEVENT
DTSTART:20160429T160000Z
DTEND:20160501T220000Z
LOCATION:Sacramento, CA 95827
TRANSP: OPAQUE
SEQUENCE:0
UID:
DTSTAMP:20260421T115605Z
SUMMARY:New Life Estate Sale presents Eclectic Japanese Estate Sale
DESCRIPTION:New Life Estate Sale presents Eclectic Japanese Estate Sale Calder Estate Sales and Liquidators 
UID:1776794165
STREET-ADDRESS:See website
POSTAL-CODE:95827
LOCALITY:Sacramento
REGION:ABBREV=CA
COUNTRY:ABBREV=US;ABBREV=USA:United States
URL;TYPE=Event Listing:https://estatesales.org/estate-sales/ca/sacramento/95827/new-life-estate-sale-presents-833193
PRIORITY:1
CLASS:PUBLIC
SEQUENCE:0
STATUS:CONFIRMED
TRANSP:OPAQUE
END:VEVENT
END:VCALENDAR
