BEGIN:VCALENDAR
VERSION:2.0
METHOD:PUBLISH
BEGIN:VEVENT
DTSTART:20160429T130000Z
DTEND:20160430T200000Z
LOCATION:Saint Clair Shores, MI 48081
TRANSP: OPAQUE
SEQUENCE:0
UID:
DTSTAMP:20260421T055335Z
SUMMARY:Great finds at this Estate Sale in St. Clair Shores
DESCRIPTION:Great finds at this Estate Sale in St. Clair Shores Caring Transitions of Oakland County MI 
UID:1776772415
STREET-ADDRESS:See website
POSTAL-CODE:48081
LOCALITY:Saint Clair Shores
REGION:ABBREV=MI
COUNTRY:ABBREV=US;ABBREV=USA:United States
URL;TYPE=Event Listing:https://estatesales.org/estate-sales/mi/saint-clair-shores/48081/great-finds-at-this-estate-834785
PRIORITY:1
CLASS:PUBLIC
SEQUENCE:0
STATUS:CONFIRMED
TRANSP:OPAQUE
END:VEVENT
END:VCALENDAR
