BEGIN:VCALENDAR
VERSION:2.0
METHOD:PUBLISH
BEGIN:VEVENT
DTSTART:20160429T120000Z
DTEND:20160501T190000Z
LOCATION:Groton, CT 06340
TRANSP: OPAQUE
SEQUENCE:0
UID:
DTSTAMP:20260424T115757Z
SUMMARY:4 Generation Estate Sale!!
DESCRIPTION:4 Generation Estate Sale!! ACL Estate Services 
UID:1777053477
STREET-ADDRESS:See website
POSTAL-CODE:06340
LOCALITY:Groton
REGION:ABBREV=CT
COUNTRY:ABBREV=US;ABBREV=USA:United States
URL;TYPE=Event Listing:https://estatesales.org/estate-sales/ct/groton/06340/4-generation-estate-sale-828787
PRIORITY:1
CLASS:PUBLIC
SEQUENCE:0
STATUS:CONFIRMED
TRANSP:OPAQUE
END:VEVENT
END:VCALENDAR
