BEGIN:VCALENDAR
VERSION:2.0
METHOD:PUBLISH
BEGIN:VEVENT
DTSTART:20260428T130000Z
DTEND:20260501T220000Z
LOCATION:Depew, OK 74028 (Full address will be shown on Mon, Apr 27 12:00am)
TRANSP: OPAQUE
SEQUENCE:0
UID:
DTSTAMP:20260425T153158Z
SUMMARY:BLONDE AMBITION ESTATE SALE
DESCRIPTION:BLONDE AMBITION ESTATE SALE Blonde Ambition 
UID:1777152718
STREET-ADDRESS:See website
POSTAL-CODE:74028
LOCALITY:Depew
REGION:ABBREV=OK
COUNTRY:ABBREV=US;ABBREV=USA:United States
URL;TYPE=Event Listing:https://estatesales.org/estate-sales/ok/depew/74028/blonde-ambition-estate-sale-2437234
PRIORITY:1
CLASS:PUBLIC
SEQUENCE:0
STATUS:CONFIRMED
TRANSP:OPAQUE
END:VEVENT
END:VCALENDAR
