BEGIN:VCALENDAR
VERSION:2.0
METHOD:PUBLISH
BEGIN:VEVENT
DTSTART:20260428T150000Z
DTEND:20260502T000000Z
LOCATION:Drumright, OK 74030 (Full address will be shown on Mon, Apr 27 12:00am)
TRANSP: OPAQUE
SEQUENCE:0
UID:
DTSTAMP:20260423T170711Z
SUMMARY:Blonde Ambition Estate Sale
DESCRIPTION:Blonde Ambition Estate Sale Blonde Ambition 
UID:1776985631
STREET-ADDRESS:See website
POSTAL-CODE:74030
LOCALITY:Drumright
REGION:ABBREV=OK
COUNTRY:ABBREV=US;ABBREV=USA:United States
URL;TYPE=Event Listing:https://estatesales.org/estate-sales/ok/drumright/74030/blonde-ambition-estate-sale-2436899
PRIORITY:1
CLASS:PUBLIC
SEQUENCE:0
STATUS:CONFIRMED
TRANSP:OPAQUE
END:VEVENT
END:VCALENDAR
