BEGIN:VCALENDAR
VERSION:2.0
METHOD:PUBLISH
BEGIN:VEVENT
DTSTART:20260428T200000Z
DTEND:20260429T010000Z
LOCATION:Colorado Springs, CO 80904 (Full address will be shown on Mon, Apr 27 12:00am)
TRANSP: OPAQUE
SEQUENCE:0
UID:
DTSTAMP:20260423T231521Z
SUMMARY:ONE DAY ONLY!! 65+ YEAR collection of art: Paintings, Prints, and more
DESCRIPTION:ONE DAY ONLY!! 65+ YEAR collection of art: Paintings, Prints, and more
UID:1777007721
STREET-ADDRESS:See website
POSTAL-CODE:80904
LOCALITY:Colorado Springs
REGION:ABBREV=CO
COUNTRY:ABBREV=US;ABBREV=USA:United States
URL;TYPE=Event Listing:https://estatesales.org/estate-sales/co/colorado-springs/80904/one-day-only-65-year-2436999
PRIORITY:1
CLASS:PUBLIC
SEQUENCE:0
STATUS:CONFIRMED
TRANSP:OPAQUE
END:VEVENT
END:VCALENDAR
