BEGIN:VCALENDAR
VERSION:2.0
METHOD:PUBLISH
BEGIN:VEVENT
DTSTART:20230428T160000Z
DTEND:20230430T200000Z
LOCATION:Seattle, WA 98102
TRANSP: OPAQUE
SEQUENCE:0
UID:
DTSTAMP:20260424T133606Z
SUMMARY:Seattle Estate Sale 
DESCRIPTION:Seattle Estate Sale  A&W Helping Hands Estate Sale services and full cleanouts 
UID:1777059366
STREET-ADDRESS:See website
POSTAL-CODE:98102
LOCALITY:Seattle
REGION:ABBREV=WA
COUNTRY:ABBREV=US;ABBREV=USA:United States
URL;TYPE=Event Listing:https://estatesales.org/estate-sales/wa/seattle/98102/seattle-estate-sale-2175133
PRIORITY:1
CLASS:PUBLIC
SEQUENCE:0
STATUS:CONFIRMED
TRANSP:OPAQUE
END:VEVENT
END:VCALENDAR
