BEGIN:VCALENDAR
VERSION:2.0
METHOD:PUBLISH
BEGIN:VEVENT
DTSTART:20170428T140000Z
DTEND:20170429T190000Z
LOCATION:Richmond, VA 23220
TRANSP: OPAQUE
SEQUENCE:0
UID:
DTSTAMP:20260423T233335Z
SUMMARY:Former collection of NJ antiques dealer in Richmond's Fan district (near VCU)
DESCRIPTION:Former collection of NJ antiques dealer in Richmond's Fan district (near VCU) Beck Estates 
UID:1777008815
STREET-ADDRESS:See website
POSTAL-CODE:23220
LOCALITY:Richmond
REGION:ABBREV=VA
COUNTRY:ABBREV=US;ABBREV=USA:United States
URL;TYPE=Event Listing:https://estatesales.org/estate-sales/va/richmond/23220/former-collection-of-nj-antiques-1152153
PRIORITY:1
CLASS:PUBLIC
SEQUENCE:0
STATUS:CONFIRMED
TRANSP:OPAQUE
END:VEVENT
END:VCALENDAR
