BEGIN:VCALENDAR
VERSION:2.0
METHOD:PUBLISH
BEGIN:VEVENT
DTSTART:20170428T150000Z
DTEND:20170430T200000Z
LOCATION:Grand Junction, CO 81507
TRANSP: OPAQUE
SEQUENCE:0
UID:
DTSTAMP:20260419T152240Z
SUMMARY:Estate of Marilyn Saya
DESCRIPTION:Estate of Marilyn Saya Estate Treasures by Grand Junction Estate Sales 
UID:1776633760
STREET-ADDRESS:See website
POSTAL-CODE:81507
LOCALITY:Grand Junction
REGION:ABBREV=CO
COUNTRY:ABBREV=US;ABBREV=USA:United States
URL;TYPE=Event Listing:https://estatesales.org/estate-sales/co/grand-junction/81507/estate-of-marilyn-saya-1164517
PRIORITY:1
CLASS:PUBLIC
SEQUENCE:0
STATUS:CONFIRMED
TRANSP:OPAQUE
END:VEVENT
END:VCALENDAR
