BEGIN:VCALENDAR
VERSION:2.0
METHOD:PUBLISH
BEGIN:VEVENT
DTSTART:20240427T160000Z
DTEND:20240428T223000Z
LOCATION:Simi Valley, CA 93065
TRANSP: OPAQUE
SEQUENCE:0
UID:
DTSTAMP:20260420T044103Z
SUMMARY:DISCOUNT SUNDAY SIMI VALLEY ESTATE LIQUIDATION SALE EVERYTHING MUST GO TODAY (HONEY! STOP YHE CAR)
DESCRIPTION:DISCOUNT SUNDAY SIMI VALLEY ESTATE LIQUIDATION SALE EVERYTHING MUST GO TODAY (HONEY! STOP YHE CAR) Hidden Treasure Estate Sales 
UID:1776681663
STREET-ADDRESS:See website
POSTAL-CODE:93065
LOCALITY:Simi Valley
REGION:ABBREV=CA
COUNTRY:ABBREV=US;ABBREV=USA:United States
URL;TYPE=Event Listing:https://estatesales.org/estate-sales/ca/simi-valley/93065/discount-sunday-simi-valley-estate-2308991
PRIORITY:1
CLASS:PUBLIC
SEQUENCE:0
STATUS:CONFIRMED
TRANSP:OPAQUE
END:VEVENT
END:VCALENDAR
