BEGIN:VCALENDAR
VERSION:2.0
METHOD:PUBLISH
BEGIN:VEVENT
DTSTART:20240427T160000Z
DTEND:20240428T220000Z
LOCATION:San Ramon, CA 94582
TRANSP: OPAQUE
SEQUENCE:0
UID:
DTSTAMP:20260419T054017Z
SUMMARY:2 day Estate sale in San Ramon Ca. by Horizons.
DESCRIPTION:2 day Estate sale in San Ramon Ca. by Horizons. Horizons Estate Sales LLC 
UID:1776598817
STREET-ADDRESS:See website
POSTAL-CODE:94582
LOCALITY:San Ramon
REGION:ABBREV=CA
COUNTRY:ABBREV=US;ABBREV=USA:United States
URL;TYPE=Event Listing:https://estatesales.org/estate-sales/ca/san-ramon/94582/2-day-estate-sale-in-2310947
PRIORITY:1
CLASS:PUBLIC
SEQUENCE:0
STATUS:CONFIRMED
TRANSP:OPAQUE
END:VEVENT
END:VCALENDAR
