BEGIN:VCALENDAR
VERSION:2.0
METHOD:PUBLISH
BEGIN:VEVENT
DTSTART:20240427T120000Z
DTEND:20240427T190000Z
LOCATION:Norfolk, CT 06058
TRANSP: OPAQUE
SEQUENCE:0
UID:
DTSTAMP:20260425T152542Z
SUMMARY:Norfolk Estate Tool Sale
DESCRIPTION:Norfolk Estate Tool Sale Sean Mahoney Estate Sales LLC 
UID:1777152342
STREET-ADDRESS:See website
POSTAL-CODE:06058
LOCALITY:Norfolk
REGION:ABBREV=CT
COUNTRY:ABBREV=US;ABBREV=USA:United States
URL;TYPE=Event Listing:https://estatesales.org/estate-sales/ct/norfolk/06058/norfolk-estate-tool-sale-2310255
PRIORITY:1
CLASS:PUBLIC
SEQUENCE:0
STATUS:CONFIRMED
TRANSP:OPAQUE
END:VEVENT
END:VCALENDAR
