BEGIN:VCALENDAR
VERSION:2.0
METHOD:PUBLISH
BEGIN:VEVENT
DTSTART:20190427T130000Z
DTEND:20190428T180000Z
LOCATION:Garnerville, NY 10923
TRANSP: OPAQUE
SEQUENCE:0
UID:
DTSTAMP:20260424T071814Z
SUMMARY:Everything MUST Go! Final Day Estate Sale 
DESCRIPTION:Everything MUST Go! Final Day Estate Sale  Stephanie's Storage Sale 
UID:1777036694
STREET-ADDRESS:See website
POSTAL-CODE:10923
LOCALITY:Garnerville
REGION:ABBREV=NY
COUNTRY:ABBREV=US;ABBREV=USA:United States
URL;TYPE=Event Listing:https://estatesales.org/estate-sales/ny/garnerville/10923/everything-must-go-final-day-1652937
PRIORITY:1
CLASS:PUBLIC
SEQUENCE:0
STATUS:CONFIRMED
TRANSP:OPAQUE
END:VEVENT
END:VCALENDAR
