BEGIN:VCALENDAR
VERSION:2.0
METHOD:PUBLISH
BEGIN:VEVENT
DTSTART:20180427T140000Z
DTEND:20180429T190000Z
LOCATION:Mc Lean, VA 22101
TRANSP: OPAQUE
SEQUENCE:0
UID:
DTSTAMP:20260424T133042Z
SUMMARY: MOVING in MCLEAN
DESCRIPTION: MOVING in MCLEAN Great Estate Solutions 
UID:1777059042
STREET-ADDRESS:See website
POSTAL-CODE:22101
LOCALITY:Mc Lean
REGION:ABBREV=VA
COUNTRY:ABBREV=US;ABBREV=USA:United States
URL;TYPE=Event Listing:https://estatesales.org/estate-sales/va/mclean/22101/moving-in-mclean-1507123
PRIORITY:1
CLASS:PUBLIC
SEQUENCE:0
STATUS:CONFIRMED
TRANSP:OPAQUE
END:VEVENT
END:VCALENDAR
