BEGIN:VCALENDAR
VERSION:2.0
METHOD:PUBLISH
BEGIN:VEVENT
DTSTART:20180427T150000Z
DTEND:20180429T220000Z
LOCATION:Palisade, CO 81526
TRANSP: OPAQUE
SEQUENCE:0
UID:
DTSTAMP:20260419T152814Z
SUMMARY:Lucille Hill Estate Sale in Palisade
DESCRIPTION:Lucille Hill Estate Sale in Palisade Estate Treasures by Grand Junction Estate Sales 
UID:1776634094
STREET-ADDRESS:See website
POSTAL-CODE:81526
LOCALITY:Palisade
REGION:ABBREV=CO
COUNTRY:ABBREV=US;ABBREV=USA:United States
URL;TYPE=Event Listing:https://estatesales.org/estate-sales/co/palisade/81526/lucille-hill-estate-sale-in-1508045
PRIORITY:1
CLASS:PUBLIC
SEQUENCE:0
STATUS:CONFIRMED
TRANSP:OPAQUE
END:VEVENT
END:VCALENDAR
