BEGIN:VCALENDAR
VERSION:2.0
METHOD:PUBLISH
BEGIN:VEVENT
DTSTART:20180427T180000Z
DTEND:20180428T180000Z
LOCATION:Medford, NJ 08055
TRANSP: OPAQUE
SEQUENCE:0
UID:
DTSTAMP:20260422T105539Z
SUMMARY:Family Heritage Estate Sales, LLC is in Medford, NJ
DESCRIPTION:Family Heritage Estate Sales, LLC is in Medford, NJ FAMILY HERITAGE ESTATE SALES, LLC (14 yrs estate sale experience) 
UID:1776876939
STREET-ADDRESS:See website
POSTAL-CODE:08055
LOCALITY:Medford
REGION:ABBREV=NJ
COUNTRY:ABBREV=US;ABBREV=USA:United States
URL;TYPE=Event Listing:https://estatesales.org/estate-sales/nj/medford/08055/family-heritage-estate-sales-llc-1494807
PRIORITY:1
CLASS:PUBLIC
SEQUENCE:0
STATUS:CONFIRMED
TRANSP:OPAQUE
END:VEVENT
END:VCALENDAR
