BEGIN:VCALENDAR
VERSION:2.0
METHOD:PUBLISH
BEGIN:VEVENT
DTSTART:20120427T120000Z
DTEND:20120429T210000Z
LOCATION:Plano, TX 75023
TRANSP: OPAQUE
SEQUENCE:0
UID:
DTSTAMP:20260425T122445Z
SUMMARY:LIVIN&#039; LARGE 2.0!   Jaw-Dropper Downsizing Estate Sale
DESCRIPTION:LIVIN&#039; LARGE 2.0!   Jaw-Dropper Downsizing Estate Sale Blue Moon Estates - Estate Sales, Events &amp; Services 
UID:1777141485
STREET-ADDRESS:See website
POSTAL-CODE:75023
LOCALITY:Plano
REGION:ABBREV=TX
COUNTRY:ABBREV=US;ABBREV=USA:United States
URL;TYPE=Event Listing:https://estatesales.org/estate-sales/tx/plano/75023/livin039-large-20-jawdropper-downsizing-166560
PRIORITY:1
CLASS:PUBLIC
SEQUENCE:0
STATUS:CONFIRMED
TRANSP:OPAQUE
END:VEVENT
END:VCALENDAR
