BEGIN:VCALENDAR
VERSION:2.0
METHOD:PUBLISH
BEGIN:VEVENT
DTSTART:20260426T150000Z
DTEND:20260426T183000Z
LOCATION:Summerville, SC 29485 (Full address will be shown on Sat, Apr 25 8:00am)
TRANSP: OPAQUE
SEQUENCE:0
UID:
DTSTAMP:20260422T003042Z
SUMMARY:Amazing Sale!! Every room is PACKED!!!
DESCRIPTION:Amazing Sale!! Every room is PACKED!!! Calibrie  Lowcountry Estate Sales LLC. 
UID:1776839442
STREET-ADDRESS:See website
POSTAL-CODE:29485
LOCALITY:Summerville
REGION:ABBREV=SC
COUNTRY:ABBREV=US;ABBREV=USA:United States
URL;TYPE=Event Listing:https://estatesales.org/estate-sales/sc/summerville/29485/amazing-sale-every-room-is-2436473
PRIORITY:1
CLASS:PUBLIC
SEQUENCE:0
STATUS:CONFIRMED
TRANSP:OPAQUE
END:VEVENT
END:VCALENDAR
