BEGIN:VCALENDAR
VERSION:2.0
METHOD:PUBLISH
BEGIN:VEVENT
DTSTART:20260426T130000Z
DTEND:20260426T200000Z
LOCATION:Miami, FL 33143 (Full address will be shown on Sat, Apr 25 12:00am)
TRANSP: OPAQUE
SEQUENCE:0
UID:
DTSTAMP:20260421T170035Z
SUMMARY:MOM’S SIDE - ONE DAY BLOWOUT- FINAL DAY
DESCRIPTION:MOM’S SIDE - ONE DAY BLOWOUT- FINAL DAY WAREHOUSE DEPOT 
UID:1776812435
STREET-ADDRESS:See website
POSTAL-CODE:33143
LOCALITY:Miami
REGION:ABBREV=FL
COUNTRY:ABBREV=US;ABBREV=USA:United States
URL;TYPE=Event Listing:https://estatesales.org/estate-sales/fl/miami/33143/moms-side-one-day-blowout-2435968
PRIORITY:1
CLASS:PUBLIC
SEQUENCE:0
STATUS:CONFIRMED
TRANSP:OPAQUE
END:VEVENT
END:VCALENDAR
