BEGIN:VCALENDAR
VERSION:2.0
METHOD:PUBLISH
BEGIN:VEVENT
DTSTART:20260426T123000Z
DTEND:20260426T203000Z
LOCATION:Princeton Junction, NJ 08550 (Full address will be shown on Sat, Apr 25 9:00am)
TRANSP: OPAQUE
SEQUENCE:0
UID:
DTSTAMP:20260423T062741Z
SUMMARY:Upscale Collectibles, Decor & Antiques - Fabulous Finds in Princeton Junction
DESCRIPTION:Upscale Collectibles, Decor & Antiques - Fabulous Finds in Princeton Junction White Pine Estate Sales & Auctions 
UID:1776947261
STREET-ADDRESS:See website
POSTAL-CODE:08550
LOCALITY:Princeton Junction
REGION:ABBREV=NJ
COUNTRY:ABBREV=US;ABBREV=USA:United States
URL;TYPE=Event Listing:https://estatesales.org/estate-sales/nj/princeton-junction/08550/upscale-collectibles-decor-antiques-fabulous-2436740
PRIORITY:1
CLASS:PUBLIC
SEQUENCE:0
STATUS:CONFIRMED
TRANSP:OPAQUE
END:VEVENT
END:VCALENDAR
