BEGIN:VCALENDAR
VERSION:2.0
METHOD:PUBLISH
BEGIN:VEVENT
DTSTART:20250426T130000Z
DTEND:20250427T180000Z
LOCATION:Gretna, LA 70053
TRANSP: OPAQUE
SEQUENCE:0
UID:
DTSTAMP:20260421T053754Z
SUMMARY:Great Gretna Sale
DESCRIPTION:Great Gretna Sale
UID:1776771474
STREET-ADDRESS:See website
POSTAL-CODE:70053
LOCALITY:Gretna
REGION:ABBREV=LA
COUNTRY:ABBREV=US;ABBREV=USA:United States
URL;TYPE=Event Listing:https://estatesales.org/estate-sales/la/gretna/70053/great-gretna-sale-2373180
PRIORITY:1
CLASS:PUBLIC
SEQUENCE:0
STATUS:CONFIRMED
TRANSP:OPAQUE
END:VEVENT
END:VCALENDAR
