BEGIN:VCALENDAR
VERSION:2.0
METHOD:PUBLISH
BEGIN:VEVENT
DTSTART:20240426T170000Z
DTEND:20240428T210000Z
LOCATION:Monterey, CA 93940
TRANSP: OPAQUE
SEQUENCE:0
UID:
DTSTAMP:20260421T115744Z
SUMMARY:Monterey Estate Sale
DESCRIPTION:Monterey Estate Sale A Move Made SImple 
UID:1776794264
STREET-ADDRESS:See website
POSTAL-CODE:93940
LOCALITY:Monterey
REGION:ABBREV=CA
COUNTRY:ABBREV=US;ABBREV=USA:United States
URL;TYPE=Event Listing:https://estatesales.org/estate-sales/ca/monterey/93940/monterey-estate-sale-2310675
PRIORITY:1
CLASS:PUBLIC
SEQUENCE:0
STATUS:CONFIRMED
TRANSP:OPAQUE
END:VEVENT
END:VCALENDAR
