BEGIN:VCALENDAR
VERSION:2.0
METHOD:PUBLISH
BEGIN:VEVENT
DTSTART:20240426T150000Z
DTEND:20240428T190000Z
LOCATION:Lakeville, MN 55044
TRANSP: OPAQUE
SEQUENCE:0
UID:
DTSTAMP:20260424T040422Z
SUMMARY:Moving Tag sale Lakeville
DESCRIPTION:Moving Tag sale Lakeville Moving On Asset Liquidation 
UID:1777025062
STREET-ADDRESS:See website
POSTAL-CODE:55044
LOCALITY:Lakeville
REGION:ABBREV=MN
COUNTRY:ABBREV=US;ABBREV=USA:United States
URL;TYPE=Event Listing:https://estatesales.org/estate-sales/mn/lakeville/55044/moving-tag-sale-lakeville-2298949
PRIORITY:1
CLASS:PUBLIC
SEQUENCE:0
STATUS:CONFIRMED
TRANSP:OPAQUE
END:VEVENT
END:VCALENDAR
