BEGIN:VCALENDAR
VERSION:2.0
METHOD:PUBLISH
BEGIN:VEVENT
DTSTART:20240426T150000Z
DTEND:20240428T210000Z
LOCATION:Riverside, CA 92506
TRANSP: OPAQUE
SEQUENCE:0
UID:
DTSTAMP:20260419T234726Z
SUMMARY:Very Nice Riverside Sale Featuring Furniture, Jewelry, Clothing, Musical Instruments and Much More!
DESCRIPTION:Very Nice Riverside Sale Featuring Furniture, Jewelry, Clothing, Musical Instruments and Much More! Estate Sales by Dee 
UID:1776664046
STREET-ADDRESS:See website
POSTAL-CODE:92506
LOCALITY:Riverside
REGION:ABBREV=CA
COUNTRY:ABBREV=US;ABBREV=USA:United States
URL;TYPE=Event Listing:https://estatesales.org/estate-sales/ca/riverside/92506/very-nice-riverside-sale-featuring-2310271
PRIORITY:1
CLASS:PUBLIC
SEQUENCE:0
STATUS:CONFIRMED
TRANSP:OPAQUE
END:VEVENT
END:VCALENDAR
