BEGIN:VCALENDAR
VERSION:2.0
METHOD:PUBLISH
BEGIN:VEVENT
DTSTART:20240426T140000Z
DTEND:20240427T220000Z
LOCATION:Woodland Park, CO 80863
TRANSP: OPAQUE
SEQUENCE:0
UID:
DTSTAMP:20260420T204659Z
SUMMARY:Huge Estate Sale, Beautiful furnishings! Quality decor, sporting goods, outdoor furnishings. Everything must go
DESCRIPTION:Huge Estate Sale, Beautiful furnishings! Quality decor, sporting goods, outdoor furnishings. Everything must go Total Care Estate and Property Services 
UID:1776739619
STREET-ADDRESS:See website
POSTAL-CODE:80863
LOCALITY:Woodland Park
REGION:ABBREV=CO
COUNTRY:ABBREV=US;ABBREV=USA:United States
URL;TYPE=Event Listing:https://estatesales.org/estate-sales/co/woodland-park/80863/huge-estate-sale-beautiful-furnishings-2309067
PRIORITY:1
CLASS:PUBLIC
SEQUENCE:0
STATUS:CONFIRMED
TRANSP:OPAQUE
END:VEVENT
END:VCALENDAR
