BEGIN:VCALENDAR
VERSION:2.0
METHOD:PUBLISH
BEGIN:VEVENT
DTSTART:20190426T160000Z
DTEND:20190428T210000Z
LOCATION:Cedar Park, TX 78613
TRANSP: OPAQUE
SEQUENCE:0
UID:
DTSTAMP:20260424T121953Z
SUMMARY:Westside Preserve at Buttercup Treasures SUNDAY 50% OFF EVERYTHING
DESCRIPTION:Westside Preserve at Buttercup Treasures SUNDAY 50% OFF EVERYTHING Past 2 Present Estate Sale Service 
UID:1777054793
STREET-ADDRESS:See website
POSTAL-CODE:78613
LOCALITY:Cedar Park
REGION:ABBREV=TX
COUNTRY:ABBREV=US;ABBREV=USA:United States
URL;TYPE=Event Listing:https://estatesales.org/estate-sales/tx/cedar-park/78613/westside-preserve-at-buttercup-treasures-1642303
PRIORITY:1
CLASS:PUBLIC
SEQUENCE:0
STATUS:CONFIRMED
TRANSP:OPAQUE
END:VEVENT
END:VCALENDAR
