BEGIN:VCALENDAR
VERSION:2.0
METHOD:PUBLISH
BEGIN:VEVENT
DTSTART:20190426T160000Z
DTEND:20190428T200000Z
LOCATION:Santa Rosa, CA 95404
TRANSP: OPAQUE
SEQUENCE:0
UID:
DTSTAMP:20260421T124126Z
SUMMARY:LOVELY SALE ON GROSSE AVE
DESCRIPTION:LOVELY SALE ON GROSSE AVE Susan Gardner Estate Sales 
UID:1776796886
STREET-ADDRESS:See website
POSTAL-CODE:95404
LOCALITY:Santa Rosa
REGION:ABBREV=CA
COUNTRY:ABBREV=US;ABBREV=USA:United States
URL;TYPE=Event Listing:https://estatesales.org/estate-sales/ca/santa-rosa/95404/lovely-sale-on-grosse-ave-1652053
PRIORITY:1
CLASS:PUBLIC
SEQUENCE:0
STATUS:CONFIRMED
TRANSP:OPAQUE
END:VEVENT
END:VCALENDAR
