BEGIN:VCALENDAR
VERSION:2.0
METHOD:PUBLISH
BEGIN:VEVENT
DTSTART:20190426T150000Z
DTEND:20190427T180000Z
LOCATION:Oklahoma City, OK 73119
TRANSP: OPAQUE
SEQUENCE:0
UID:
DTSTAMP:20260424T165352Z
SUMMARY:Time Capsule 
DESCRIPTION:Time Capsule  Belle Ordure Estate Sales 
UID:1777071232
STREET-ADDRESS:See website
POSTAL-CODE:73119
LOCALITY:Oklahoma City
REGION:ABBREV=OK
COUNTRY:ABBREV=US;ABBREV=USA:United States
URL;TYPE=Event Listing:https://estatesales.org/estate-sales/ok/oklahoma-city-/73119/time-capsule-1651771
PRIORITY:1
CLASS:PUBLIC
SEQUENCE:0
STATUS:CONFIRMED
TRANSP:OPAQUE
END:VEVENT
END:VCALENDAR
