BEGIN:VCALENDAR
VERSION:2.0
METHOD:PUBLISH
BEGIN:VEVENT
DTSTART:20180426T160000Z
DTEND:20180429T210000Z
LOCATION:Tehachapi, CA 93561
TRANSP: OPAQUE
SEQUENCE:0
UID:
DTSTAMP:20260420T172951Z
SUMMARY:Tehachapi Estate Sale by Expert Estates LLC
DESCRIPTION:Tehachapi Estate Sale by Expert Estates LLC Expert Estate Sales by L. A. Kroese 
UID:1776727791
STREET-ADDRESS:See website
POSTAL-CODE:93561
LOCALITY:Tehachapi
REGION:ABBREV=CA
COUNTRY:ABBREV=US;ABBREV=USA:United States
URL;TYPE=Event Listing:https://estatesales.org/estate-sales/ca/tehachapi/93561/tehachapi-estate-sale-by-expert-1501537
PRIORITY:1
CLASS:PUBLIC
SEQUENCE:0
STATUS:CONFIRMED
TRANSP:OPAQUE
END:VEVENT
END:VCALENDAR
