BEGIN:VCALENDAR
VERSION:2.0
METHOD:PUBLISH
BEGIN:VEVENT
DTSTART:20150426T160000Z
DTEND:20150426T230000Z
LOCATION:Carson City, NV 89701
TRANSP: OPAQUE
SEQUENCE:0
UID:
DTSTAMP:20260425T194410Z
SUMMARY:Sunday April 26th Auction
DESCRIPTION:Sunday April 26th Auction Carson City Auction Company 
UID:1777167850
STREET-ADDRESS:See website
POSTAL-CODE:89701
LOCALITY:Carson City
REGION:ABBREV=NV
COUNTRY:ABBREV=US;ABBREV=USA:United States
URL;TYPE=Event Listing:https://estatesales.org/estate-sales/nv/carson-city/89701/sunday-april-26th-auction-533782
PRIORITY:1
CLASS:PUBLIC
SEQUENCE:0
STATUS:CONFIRMED
TRANSP:OPAQUE
END:VEVENT
END:VCALENDAR
