BEGIN:VCALENDAR
VERSION:2.0
METHOD:PUBLISH
BEGIN:VEVENT
DTSTART:20130426T130000Z
DTEND:20130428T190000Z
LOCATION:Plano, TX 75093
TRANSP: OPAQUE
SEQUENCE:0
UID:
DTSTAMP:20260425T122455Z
SUMMARY:A CHERRY GARCIA Of A Sale!
DESCRIPTION:A CHERRY GARCIA Of A Sale! Blue Moon Estates - Estate Sales, Events &amp; Services 
UID:1777141495
STREET-ADDRESS:See website
POSTAL-CODE:75093
LOCALITY:Plano
REGION:ABBREV=TX
COUNTRY:ABBREV=US;ABBREV=USA:United States
URL;TYPE=Event Listing:https://estatesales.org/estate-sales/tx/plano/75093/a-cherry-garcia-of-a-252141
PRIORITY:1
CLASS:PUBLIC
SEQUENCE:0
STATUS:CONFIRMED
TRANSP:OPAQUE
END:VEVENT
END:VCALENDAR
