BEGIN:VCALENDAR
VERSION:2.0
METHOD:PUBLISH
BEGIN:VEVENT
DTSTART:20260425T160000Z
DTEND:20260426T220000Z
LOCATION:Portland, OR 97230 (Full address will be shown on Fri, Apr 24 10:00pm)
TRANSP: OPAQUE
SEQUENCE:0
UID:
DTSTAMP:20260423T105821Z
SUMMARY:NE PORTLAND ARGAY ESTATE SALE
DESCRIPTION:NE PORTLAND ARGAY ESTATE SALE TBARB's Estate and Moving Sales 
UID:1776963501
STREET-ADDRESS:See website
POSTAL-CODE:97230
LOCALITY:Portland
REGION:ABBREV=OR
COUNTRY:ABBREV=US;ABBREV=USA:United States
URL;TYPE=Event Listing:https://estatesales.org/estate-sales/or/portland/97230/ne-portland-argay-estate-sale-2436359
PRIORITY:1
CLASS:PUBLIC
SEQUENCE:0
STATUS:CONFIRMED
TRANSP:OPAQUE
END:VEVENT
END:VCALENDAR
