BEGIN:VCALENDAR
VERSION:2.0
METHOD:PUBLISH
BEGIN:VEVENT
DTSTART:20260425T170000Z
DTEND:20260426T230000Z
LOCATION:Los Angeles, CA 90064 (Full address will be shown on Sat, Apr 25 8:00am)
TRANSP: OPAQUE
SEQUENCE:0
UID:
DTSTAMP:20260421T121511Z
SUMMARY:Again L..A. - Cheviot Hills Doctor's Estate Sale
DESCRIPTION:Again L..A. - Cheviot Hills Doctor's Estate Sale Again L.A. Estate Sales 
UID:1776795311
STREET-ADDRESS:See website
POSTAL-CODE:90064
LOCALITY:Los Angeles
REGION:ABBREV=CA
COUNTRY:ABBREV=US;ABBREV=USA:United States
URL;TYPE=Event Listing:https://estatesales.org/estate-sales/ca/los-angeles/90064/again-la-cheviot-hills-doctors-2436340
PRIORITY:1
CLASS:PUBLIC
SEQUENCE:0
STATUS:CONFIRMED
TRANSP:OPAQUE
END:VEVENT
END:VCALENDAR
